BEGIN:VCALENDAR
VERSION:2.0
PRODID:icalendar-ruby
CALSCALE:GREGORIAN
METHOD:PUBLISH
BEGIN:VEVENT
DTSTAMP:20260422T220055Z
UID:1-3566056@jesucristoel.tithelysetup5.com
DTSTART:20260523T030000Z
DTEND:20260523T040000Z
CLASS:PUBLIC
CREATED:20260422T124125
DESCRIPTION:Follow our INSTAGRAM for the most updated news + encouragements
 . 
LAST-MODIFIED:20260422T124125
LOCATION:
SUMMARY:JER ENGLISH SERVICE
URL;VALUE=URI:https://jerchurch.com/events/jer-english-service/2026-05-22
ATTACH;FILENAME=Untitled design (3).jpeg;FMTTYPE=image/jpeg:https://dq5pwpg
 1q8ru0.cloudfront.net/2020/06/23/20/24/32/40d9c6df-8d7e-451c-8d7b-7e5bcdd5
 bd40/Untitled%20design%20(3).jpeg
END:VEVENT
END:VCALENDAR
