BEGIN:VCALENDAR
VERSION:2.0
PRODID:icalendar-ruby
CALSCALE:GREGORIAN
METHOD:PUBLISH
BEGIN:VEVENT
DTSTAMP:20260423T043153Z
UID:1-3570013@jesucristoel.tithelysetup5.com
DTSTART:20260627T030000Z
DTEND:20260627T040000Z
CLASS:PUBLIC
CREATED:20260422T182729
DESCRIPTION:Follow our INSTAGRAM for the most updated news + encouragements
 . 
LAST-MODIFIED:20260422T182729
LOCATION:
SUMMARY:JER ENGLISH SERVICE
URL;VALUE=URI:https://jerchurch.com/events/jer-english-service/2026-06-26
ATTACH;FILENAME=Untitled design (3).jpeg;FMTTYPE=image/jpeg:https://dq5pwpg
 1q8ru0.cloudfront.net/2020/06/23/20/24/32/40d9c6df-8d7e-451c-8d7b-7e5bcdd5
 bd40/Untitled%20design%20(3).jpeg
END:VEVENT
END:VCALENDAR
