BEGIN:VCALENDAR
VERSION:2.0
PRODID:icalendar-ruby
CALSCALE:GREGORIAN
METHOD:PUBLISH
BEGIN:VEVENT
DTSTAMP:20260424T001458Z
UID:8-3581281@jesucristoel.tithelysetup5.com
DTSTART:20260917T030000Z
DTEND:20260917T040000Z
CLASS:PUBLIC
CREATED:20260423T153620
DESCRIPTION:MIDWEEK SERVICE
LAST-MODIFIED:20260423T153620
LOCATION:1050 W 23rd St\, Hialeah\, FL 33010
SUMMARY:MIDWEEK SERVICE
URL;VALUE=URI:https://jerchurch.com/events/midweek-service/2026-09-16
END:VEVENT
END:VCALENDAR
