BEGIN:VCALENDAR
VERSION:2.0
PRODID:icalendar-ruby
CALSCALE:GREGORIAN
METHOD:PUBLISH
BEGIN:VEVENT
DTSTAMP:20260424T000507Z
UID:9-3581556@jesucristoel.tithelysetup5.com
DTSTART:20261006T030000Z
DTEND:20261006T050000Z
CLASS:PUBLIC
CREATED:20260423T153621
DESCRIPTION:
LAST-MODIFIED:20260423T153621
LOCATION:JER Temple
SUMMARY:Monday Prayer
URL;VALUE=URI:https://jerchurch.com/events/monday-prayer/2026-10-05
ATTACH;FILENAME=MAPu.jpg;FMTTYPE=image/jpeg:https://dq5pwpg1q8ru0.cloudfron
 t.net/2021/08/21/14/00/39/e80b366d-85cc-46aa-973d-d2c55388d8fc/MAPu.jpg
END:VEVENT
END:VCALENDAR
