BEGIN:VCALENDAR
VERSION:2.0
PRODID:icalendar-ruby
CALSCALE:GREGORIAN
METHOD:PUBLISH
BEGIN:VEVENT
DTSTAMP:20260424T000450Z
UID:7-3580950@jesucristoel.tithelysetup5.com
DTSTART:20260921T010000Z
DTEND:20260921T020000Z
CLASS:PUBLIC
CREATED:20260423T153619
DESCRIPTION:SUNDAY SERVICE - ENGLISH
LAST-MODIFIED:20260423T153619
LOCATION:1050 W 23rd St\, Hialeah\, FL 33010
SUMMARY:SUNDAY SERVICE - ENGLISH
URL;VALUE=URI:https://jerchurch.com/events/sunday-service-english/2026-09-2
 0
END:VEVENT
END:VCALENDAR
