BEGIN:VCALENDAR
VERSION:2.0
PRODID:icalendar-ruby
CALSCALE:GREGORIAN
METHOD:PUBLISH
BEGIN:VEVENT
DTSTAMP:20260424T081953Z
UID:7-3582933@jesucristoel.tithelysetup5.com
DTSTART:20261102T020000Z
DTEND:20261102T030000Z
CLASS:PUBLIC
CREATED:20260423T182931
DESCRIPTION:SUNDAY SERVICE - ENGLISH
LAST-MODIFIED:20260423T182931
LOCATION:1050 W 23rd St\, Hialeah\, FL 33010
SUMMARY:SUNDAY SERVICE - ENGLISH
URL;VALUE=URI:https://jerchurch.com/events/sunday-service-english/2026-11-0
 1
END:VEVENT
END:VCALENDAR
