BEGIN:VCALENDAR
VERSION:2.0
PRODID:icalendar-ruby
CALSCALE:GREGORIAN
METHOD:PUBLISH
BEGIN:VEVENT
DTSTAMP:20260424T003730Z
UID:6-3580619@jesucristoel.tithelysetup5.com
DTSTART:20260920T180000Z
DTEND:20260920T190000Z
CLASS:PUBLIC
CREATED:20260423T153618
DESCRIPTION:
LAST-MODIFIED:20260423T153618
LOCATION:1050 W 23rd St\, Hialeah\, FL 33010
SUMMARY:SUNDAY SERVICE - SPANISH
URL;VALUE=URI:https://jerchurch.com/events/sunday-service-spanish--6/2026-0
 9-20
END:VEVENT
END:VCALENDAR
