BEGIN:VCALENDAR
VERSION:2.0
PRODID:icalendar-ruby
CALSCALE:GREGORIAN
METHOD:PUBLISH
BEGIN:VEVENT
DTSTAMP:20260424T014555Z
UID:6-3582597@jesucristoel.tithelysetup5.com
DTSTART:20260927T180000Z
DTEND:20260927T190000Z
CLASS:PUBLIC
CREATED:20260423T182931
DESCRIPTION:
LAST-MODIFIED:20260423T182931
LOCATION:1050 W 23rd St\, Hialeah\, FL 33010
SUMMARY:SUNDAY SERVICE - SPANISH
URL;VALUE=URI:https://jerchurch.com/events/sunday-service-spanish--6/2026-0
 9-27
END:VEVENT
END:VCALENDAR
