BEGIN:VCALENDAR
VERSION:2.0
PRODID:icalendar-ruby
CALSCALE:GREGORIAN
METHOD:PUBLISH
BEGIN:VEVENT
DTSTAMP:20260424T122314Z
UID:5-3584242@jesucristoel.tithelysetup5.com
DTSTART:20260920T180000Z
DTEND:20260920T190000Z
CLASS:PUBLIC
CREATED:20260424T035715
DESCRIPTION:Sunday Worship
LAST-MODIFIED:20260424T035715
LOCATION:
SUMMARY:Sunday Worship
URL;VALUE=URI:https://jerchurch.com/events/sunday-worship/2026-09-20
END:VEVENT
END:VCALENDAR
