BEGIN:VCALENDAR
VERSION:2.0
PRODID:icalendar-ruby
CALSCALE:GREGORIAN
METHOD:PUBLISH
BEGIN:VEVENT
DTSTAMP:20260424T135255Z
UID:5-3586220@jesucristoel.tithelysetup5.com
DTSTART:20260927T180000Z
DTEND:20260927T190000Z
CLASS:PUBLIC
CREATED:20260424T065139
DESCRIPTION:Sunday Worship
LAST-MODIFIED:20260424T065139
LOCATION:
SUMMARY:Sunday Worship
URL;VALUE=URI:https://jerchurch.com/events/sunday-worship/2026-09-27
END:VEVENT
END:VCALENDAR
