BEGIN:VCALENDAR
VERSION:2.0
PRODID:icalendar-ruby
CALSCALE:GREGORIAN
METHOD:PUBLISH
BEGIN:VEVENT
DTSTAMP:20260424T192507Z
UID:5-3588201@jesucristoel.tithelysetup5.com
DTSTART:20261025T180000Z
DTEND:20261025T190000Z
CLASS:PUBLIC
CREATED:20260424T094149
DESCRIPTION:Sunday Worship
LAST-MODIFIED:20260424T094149
LOCATION:
SUMMARY:Sunday Worship
URL;VALUE=URI:https://jerchurch.com/events/sunday-worship/2026-10-25
END:VEVENT
END:VCALENDAR
