BEGIN:VCALENDAR
VERSION:2.0
PRODID:icalendar-ruby
CALSCALE:GREGORIAN
METHOD:PUBLISH
BEGIN:VEVENT
DTSTAMP:20260424T204448Z
UID:5-3590179@jesucristoel.tithelysetup5.com
DTSTART:20261101T190000Z
DTEND:20261101T200000Z
CLASS:PUBLIC
CREATED:20260424T122758
DESCRIPTION:Sunday Worship
LAST-MODIFIED:20260424T122758
LOCATION:
SUMMARY:Sunday Worship
URL;VALUE=URI:https://jerchurch.com/events/sunday-worship/2026-11-01
END:VEVENT
END:VCALENDAR
